BEGIN:VCALENDAR
VERSION:2.0
PRODID:-//wp-events-plugin.com//7.2.3.1//EN
TZID:Europe/Berlin
X-WR-TIMEZONE:Europe/BerlinBEGIN:VCALENDAR
VERSION:2.0
PRODID:-//wp-events-plugin.com//7.2.3.1//EN
TZID:Europe/Berlin
X-WR-TIMEZONE:Europe/Berlin
BEGIN:VEVENT
UID:0-2111@castelltreff.de
DTSTART;TZID=Europe/Berlin:20250210T150000
DTEND;TZID=Europe/Berlin:20250210T180000
DTSTAMP:20250207T204803Z
URL:https://castelltreff.de/events/offener-treff-montags-2-2025-02-10/
SUMMARY:Offener Treff - heute mit Erinnerungen an die Nachkriegszeit
DESCRIPTION:Herzlichen Willkommen zu Kennenlernen\, Austausch\, Spielen!\nU
 nd heute mit einem besonderen Angebot: Gert Müller kommt erneut in den Tr
 eff (ab circa 17 Uhr)\, diesmal um seine Erinnerungen an die Nachkriegszei
 t zu teilen. Er ist gebürtiger Casteller und hat das Ende des Zweiten Wel
 tkriegs als Siebenjähriger in unserem Stadtteil erlebt. Er hat bereits ei
 nmal im Treff über den großen Bombenangriff im Oktober 1944 und das Krie
 gsende berichtet. Für die Jungen rückt bei seinen Berichten über uns al
 len vertraute Orte die Historie ganz nah\, für die Älteren werden eigene
  Erfahrungen lebendig. Wir freuen uns auf einen interessanten Austausch!
ATTACH;FMTTYPE=image/jpeg:https://castelltreff.de/wp-content/uploads/2023/
 08/Gartenzimmer.IMG_3209-scaled.jpg
CATEGORIES:öffentlich
END:VEVENT
BEGIN:VTIMEZONE
TZID:Europe/Berlin
X-LIC-LOCATION:Europe/Berlin
BEGIN:STANDARD
DTSTART:20241027T020000
TZOFFSETFROM:+0200
TZOFFSETTO:+0100
TZNAME:CET
END:STANDARD
END:VTIMEZONE
END:VCALENDAR