BEGIN:VCALENDAR
VERSION:2.0
PRODID:-//wp-events-plugin.com//7.2.3.1//EN
TZID:Europe/Berlin
X-WR-TIMEZONE:Europe/BerlinBEGIN:VCALENDAR
VERSION:2.0
PRODID:-//wp-events-plugin.com//7.2.3.1//EN
TZID:Europe/Berlin
X-WR-TIMEZONE:Europe/Berlin
BEGIN:VEVENT
UID:0-2183@castelltreff.de
DTSTART;TZID=Europe/Berlin:20241223T150000
DTEND;TZID=Europe/Berlin:20241223T180000
DTSTAMP:20241127T200119Z
URL:https://castelltreff.de/events/offener-treff-montags-intern-3-2024-12-
 23/
SUMMARY:ACHTUNG: Offener Treff entfällt
DESCRIPTION:Vom 9. Dezember 2024 bis zum 1. Januar 2025 einschließlich ent
 fallen die offenen Treffs.
ATTACH;FMTTYPE=image/jpeg:https://castelltreff.de/wp-content/uploads/2023/
 08/Gartenzimmer.IMG_3209-scaled.jpg
CATEGORIES:öffentlich
END:VEVENT
BEGIN:VTIMEZONE
TZID:Europe/Berlin
X-LIC-LOCATION:Europe/Berlin
BEGIN:STANDARD
DTSTART:20241027T020000
TZOFFSETFROM:+0200
TZOFFSETTO:+0100
TZNAME:CET
END:STANDARD
END:VTIMEZONE
END:VCALENDAR