BEGIN:VCALENDAR
VERSION:2.0
PRODID:-//wp-events-plugin.com//7.2.3.1//EN
TZID:Europe/Berlin
X-WR-TIMEZONE:Europe/BerlinBEGIN:VCALENDAR
VERSION:2.0
PRODID:-//wp-events-plugin.com//7.2.3.1//EN
TZID:Europe/Berlin
X-WR-TIMEZONE:Europe/Berlin
BEGIN:VEVENT
UID:0-3551@castelltreff.de
DTSTART;TZID=Europe/Berlin:20260428T172000
DTEND;TZID=Europe/Berlin:20260428T200000
DTSTAMP:20260318T230947Z
URL:https://castelltreff.de/events/orgelbau-in-unserm-veedel-2/
SUMMARY:Orgelbau in unserm Veedel
DESCRIPTION:Ein kurzer Weg in eine besondere Welt: Diesmal führt der vom C
 astelltreff organisierte Ausflug  in die berühmte Orgelbau-Werkstatt Kla
 is in der Kölnstraße. Wir dürfen uns anschauen\, wo die gewaltigen Inst
 rumente entstehen!\nDie Führung startet um 17:30 Uhr am Werkseingang (Kö
 lnstraße 148) und dauert etwa zweieinhalb Stunden.\nKostenbeitrag pro Per
 son: 10 Euro.\nAufgrund der Beschaffenheit der Werkstattbereiche ist die T
 our für mobilitätseingeschränkte Personen leider nicht geeignet.\n\nDie
  Führung ist derzeit ausgebucht.\nAnmeldung für die Warteliste bitte an 
 events@castelltreff.de.
ATTACH;FMTTYPE=image/jpeg:https://castelltreff.de/wp-content/uploads/2026/
 03/Orgelbau-Klais.500.jpg
CATEGORIES:öffentlich
END:VEVENT
BEGIN:VTIMEZONE
TZID:Europe/Berlin
X-LIC-LOCATION:Europe/Berlin
BEGIN:DAYLIGHT
DTSTART:20260329T030000
TZOFFSETFROM:+0100
TZOFFSETTO:+0200
TZNAME:CEST
END:DAYLIGHT
END:VTIMEZONE
END:VCALENDAR