BEGIN:VCALENDAR
VERSION:2.0
PRODID:-//wp-events-plugin.com//7.2.3.1//EN
TZID:Europe/Berlin
X-WR-TIMEZONE:Europe/BerlinBEGIN:VCALENDAR
VERSION:2.0
PRODID:-//wp-events-plugin.com//7.2.3.1//EN
TZID:Europe/Berlin
X-WR-TIMEZONE:Europe/Berlin
BEGIN:VEVENT
UID:0-3318@castelltreff.de
DTSTART;TZID=Europe/Berlin:20260104T130000
DTEND;TZID=Europe/Berlin:20260104T143000
DTSTAMP:20251219T212848Z
URL:https://castelltreff.de/events/picobello-aktion-des-castelltreffs/
SUMMARY:Picobello-Aktion des Castelltreffs
DESCRIPTION:Zu Beginn des neuen Jahres wollen wir Castell ein bisschen (her
 aus)putzen.\nErfahrungsgemäß findet sich trotz der fleißigen Mitarbeite
 r von Bonn-Orange nach Silvester noch so Manches\, das uns nicht gefällt 
 und den Vögeln\, Hunden und Katzen nicht gut tut.\nWir treffen uns im Tre
 ff und bei der Rückkehr erwartet alle Mitmacher*innen saisonale Heißgetr
 änke und natürlich eine sonntägliche Kuchenauswahl.\nMacht mit! Wir fre
 uen uns über eine kurze Anmeldung\, damit wir genug Zangen\, Handschuhe u
 nd Säcke bestellen können: events@castelltreff.de
ATTACH;FMTTYPE=image/jpeg:https://castelltreff.de/wp-content/uploads/2025/
 01/Picobello-1-2025.500.III_.jpg
CATEGORIES:öffentlich
END:VEVENT
BEGIN:VTIMEZONE
TZID:Europe/Berlin
X-LIC-LOCATION:Europe/Berlin
BEGIN:STANDARD
DTSTART:20251026T020000
TZOFFSETFROM:+0200
TZOFFSETTO:+0100
TZNAME:CET
END:STANDARD
END:VTIMEZONE
END:VCALENDAR