BEGIN:VCALENDAR
VERSION:2.0
PRODID:-//wp-events-plugin.com//7.2.3.1//EN
TZID:Europe/Berlin
X-WR-TIMEZONE:Europe/BerlinBEGIN:VCALENDAR
VERSION:2.0
PRODID:-//wp-events-plugin.com//7.2.3.1//EN
TZID:Europe/Berlin
X-WR-TIMEZONE:Europe/Berlin
BEGIN:VEVENT
UID:0-3418@castelltreff.de
DTSTART;TZID=Europe/Berlin:20260319T170000
DTEND;TZID=Europe/Berlin:20260319T190000
DTSTAMP:20260305T204753Z
URL:https://castelltreff.de/events/queer-in-castell-8/
SUMMARY:Queer in Castell
DESCRIPTION:Bei einer Tasse Kaffee oder Tee kannst du derzeit alle 14 Tage 
 donnerstags zwischen 17 und 19 Uhr im Stadtteiltreff mit deinen Nachbar*in
 nen ins Gespräch kommen: Das Thema am Abend ist das queere Leben und die 
 queere Kultur in Bonn(-Castell)\, sowie die persönlichen Erfahrungen der 
 Anwesenden. Hier ist Platz für persönliche Geschichten\, deine Fragen un
 d natürlich: gemeinsam am Tisch sitzen. Egal ob du selber queer bist oder
  nicht\, du bist herzlich willkommen in den Räumlichkeiten des Castelltre
 ff vorbei zu kommen.\n\nArthur freut sich auf viele interessierte Menschen
 \, kocht Tee und Kaffee für alle und moderiert den Abend.Die Reihe ist de
 rzeit bis einschließlich 30. April geplant.\nKostenlos und ohne Anmeldung
 .
ATTACH;FMTTYPE=image/jpeg:https://castelltreff.de/wp-content/uploads/2026/
 01/rainbow-1657557_1280.500.jpg
CATEGORIES:öffentlich
END:VEVENT
BEGIN:VTIMEZONE
TZID:Europe/Berlin
X-LIC-LOCATION:Europe/Berlin
BEGIN:STANDARD
DTSTART:20251026T020000
TZOFFSETFROM:+0200
TZOFFSETTO:+0100
TZNAME:CET
END:STANDARD
END:VTIMEZONE
END:VCALENDAR