BEGIN:VCALENDAR
VERSION:2.0
PRODID:-//wp-events-plugin.com//7.2.3.1//EN
TZID:Europe/Berlin
X-WR-TIMEZONE:Europe/BerlinBEGIN:VCALENDAR
VERSION:2.0
PRODID:-//wp-events-plugin.com//7.2.3.1//EN
TZID:Europe/Berlin
X-WR-TIMEZONE:Europe/Berlin
BEGIN:VEVENT
UID:0-1135@castelltreff.de
DTSTART;TZID=Europe/Berlin:20230808T193000
DTEND;TZID=Europe/Berlin:20230808T203000
DTSTAMP:20230731T221028Z
URL:https://castelltreff.de/events/sprechstunde-zu-computer-co-4/
SUMMARY:Sprechstunde zu Computer & Co
DESCRIPTION:Der Offene Computer Treff Bonn (OCT) veranstaltet im Castelltre
 ff wieder eine Sprechstunde. Vom Smartphone bis zur fernschaltbaren Steckd
 ose bietet der OCT Beratung und Austausch über die Zipperlein von moderne
 r Technik und Software. (Mit defekter Hardware\, wendet man sich dagegen b
 esser an ein Repaircafe in Bonn.)\n\nDie OCT-Mitglieder freuen sich auf di
 e zu knackenden Nüsse und bitten bei Beratungsanliegen möglichst vorab u
 m ein kurzes Stichwort zum Anliegen unter oct-bonn@vfcd.org\n\nOrt: Castel
 ltreff\, Graurheindorfer Straße 29
ATTACH;FMTTYPE=image/jpeg:https://castelltreff.de/wp-content/uploads/2023/
 05/OCT-Beratung-5-23500.jpg
CATEGORIES:öffentlich
END:VEVENT
BEGIN:VTIMEZONE
TZID:Europe/Berlin
X-LIC-LOCATION:Europe/Berlin
BEGIN:DAYLIGHT
DTSTART:20230326T030000
TZOFFSETFROM:+0100
TZOFFSETTO:+0200
TZNAME:CEST
END:DAYLIGHT
END:VTIMEZONE
END:VCALENDAR