BEGIN:VCALENDAR
VERSION:2.0
PRODID:-//wp-events-plugin.com//7.2.3.1//EN
TZID:Europe/Berlin
X-WR-TIMEZONE:Europe/BerlinBEGIN:VCALENDAR
VERSION:2.0
PRODID:-//wp-events-plugin.com//7.2.3.1//EN
TZID:Europe/Berlin
X-WR-TIMEZONE:Europe/Berlin
BEGIN:VEVENT
UID:0-3521@castelltreff.de
DTSTART;TZID=Europe/Berlin:20260713T183000
DTEND;TZID=Europe/Berlin:20260713T202000
DTSTAMP:20260303T215430Z
URL:https://castelltreff.de/events/strick-treff-mit-chloe-des-projekts-and
 ers-sehen-inklusiv-gestalten-2-2026-04-13-2026-05-11-2026-06-08-2026-07-13
 /
SUMMARY:"Strick-Treff mit Chloe" des Projekts „Anders sehen – inklusiv 
 gestalten“
DESCRIPTION:Ob Anfänger*in oder Fortgeschritten – hier sind alle herzlic
 h willkommen! Bring dein Strickzeug\, dein aktuelles Projekt oder einfach 
 Lust auf Begegnung mit. In entspannter Atmosphäre schaffen wir gemeinsam 
 Raum für Kreativität\, Gemeinschaft und Vielfalt.\n\n„Wir glauben\, da
 ss Fäden Menschen verbinden. In entspannter Atmosphäre entsteht Raum fü
 r Begegnung\, Kreativität und kleine Glücksmomente“\, so das Projekt "
 Anders sehen - inklusiv gestalten. Begegnung und Kultur in Vielfalt"*. Der
  Castelltreff unterstützt diese Idee sehr gern!\n\nBei Bedarf kann Materi
 al zur Verfügung gestellt werden. Wir freuen uns über Spenden von Wolle 
 oder Zubehör\, dies ist jedoch kein Muss.\nDie Teilnahme ist kostenlos\, 
 eine Anmeldung nicht erforderlich..\n\n“ in Kooperation mit Wildwuchs At
 elier.
ATTACH;FMTTYPE=image/jpeg:https://castelltreff.de/wp-content/uploads/2026/
 03/Stricken.500.jpg
CATEGORIES:öffentlich
END:VEVENT
BEGIN:VTIMEZONE
TZID:Europe/Berlin
X-LIC-LOCATION:Europe/Berlin
BEGIN:DAYLIGHT
DTSTART:20260329T030000
TZOFFSETFROM:+0100
TZOFFSETTO:+0200
TZNAME:CEST
END:DAYLIGHT
END:VTIMEZONE
END:VCALENDAR