BEGIN:VCALENDAR
VERSION:2.0
PRODID:-//wp-events-plugin.com//7.2.3.1//EN
TZID:Europe/Berlin
X-WR-TIMEZONE:Europe/BerlinBEGIN:VCALENDAR
VERSION:2.0
PRODID:-//wp-events-plugin.com//7.2.3.1//EN
TZID:Europe/Berlin
X-WR-TIMEZONE:Europe/Berlin
BEGIN:VEVENT
UID:0-2261@castelltreff.de
DTSTART;TZID=Europe/Berlin:20251102T150000
DTEND;TZID=Europe/Berlin:20251102T180000
DTSTAMP:20251013T193939Z
URL:https://castelltreff.de/events/teestunde-im-castelltreff-4-2025-11-02/
SUMMARY:Teestunde feiert die Haselnuss
DESCRIPTION:An diesem Sonntag lassen wir zur Teestunde die Haselnuss hochle
 ben. Anlässlich des Tages der Nuss am 22.10. kann man im Treff nicht nur 
 mit einem Stück Nusskuchen anstoßen\, sondern sich auch zu Beginn der Te
 estunde von Agraringenieur Herbert Knuppen ein bisschen in die Haselnussma
 terie einführen lassen. Und die ist spannend!\n\nNüsse sind kleine Kraft
 pakete: Sie liefern wertvolle Inhaltsstoffe wie z.B. Fett\, Eiweiß\, Spur
 enelemente\, Kohlenhydrate und Ballaststoffe. Die Deutschen essen jährlic
 h rund 5\,2 Kilogramm Nüsse pro Person. Zu 95 % ist das Importware. Aber 
 die veränderten Ernährungsgewohnheiten und das wachsende Bewusstsein der
  Kunden für Regionalität kommen den regionalen Landwirten ebenso entgege
 n wie die Klimaveränderung\, denn Hasel- und Walnuss mögen es gerne warm
  und innovative Bewässerungskonzepte helfen\, mit den klimatischen Verän
 derungen umzugehen.\n\nDas ehrenamtliche Treff-Team öffnet an jedem erste
 n Sonntag eines Monats um 15 Uhr den Castelltreff zur Teestunde. Eine klei
 ne Spende für Tee\, Kaffee und Kuchen wird erbeten.
ATTACH;FMTTYPE=image/jpeg:https://castelltreff.de/wp-content/uploads/2025/
 10/Haselnuss_640.Ausschnitt.pixabay.jpg
CATEGORIES:öffentlich
END:VEVENT
BEGIN:VTIMEZONE
TZID:Europe/Berlin
X-LIC-LOCATION:Europe/Berlin
BEGIN:STANDARD
DTSTART:20251026T020000
TZOFFSETFROM:+0200
TZOFFSETTO:+0100
TZNAME:CET
END:STANDARD
END:VTIMEZONE
END:VCALENDAR