BEGIN:VCALENDAR
VERSION:2.0
PRODID:-//wp-events-plugin.com//7.2.3.1//EN
TZID:Europe/Berlin
X-WR-TIMEZONE:Europe/BerlinBEGIN:VCALENDAR
VERSION:2.0
PRODID:-//wp-events-plugin.com//7.2.3.1//EN
TZID:Europe/Berlin
X-WR-TIMEZONE:Europe/Berlin
BEGIN:VEVENT
UID:0-2314@castelltreff.de
DTSTART;TZID=Europe/Berlin:20250128T143000
DTEND;TZID=Europe/Berlin:20250128T160000
DTSTAMP:20250105T065132Z
URL:https://castelltreff.de/events/trickbetrug-vorbeugen-seniorenberatung-
 der-kriminalpolizei/
SUMMARY:Trickbetrug vorbeugen! Seniorenberatung der Kriminalpolizei
DESCRIPTION:Das Kommissariat Kriminalprävention/Opferschutz der Bonner Pol
 izei ist zu Gast im Castelltreff. Die Seniorenberatung gibt einen Überbli
 ck über die aktuellen Methoden von Trickbetrüger*innen und  wie man sic
 h davor wappnen kann.\nNeben dem Vortrag ist genügend Zeit für Fragen un
 d Erfahrungsaustausch.\nDamit ausreichend Informationsmaterial zur Verfüg
 ung steht\, erbitten wir Anmeldung unter\nevents@castelltreff.de oder 0228
  18035117.
ATTACH;FMTTYPE=image/jpeg:https://castelltreff.de/wp-content/uploads/2025/
 01/Polizei.Polizist.500.jpg
CATEGORIES:öffentlich
END:VEVENT
BEGIN:VTIMEZONE
TZID:Europe/Berlin
X-LIC-LOCATION:Europe/Berlin
BEGIN:STANDARD
DTSTART:20241027T020000
TZOFFSETFROM:+0200
TZOFFSETTO:+0100
TZNAME:CET
END:STANDARD
END:VTIMEZONE
END:VCALENDAR