BEGIN:VCALENDAR
VERSION:2.0
PRODID:-//wp-events-plugin.com//7.2.3.1//EN
TZID:Europe/Berlin
X-WR-TIMEZONE:Europe/BerlinBEGIN:VCALENDAR
VERSION:2.0
PRODID:-//wp-events-plugin.com//7.2.3.1//EN
TZID:Europe/Berlin
X-WR-TIMEZONE:Europe/Berlin
BEGIN:VEVENT
UID:0-2496@castelltreff.de
DTSTART;TZID=Europe/Berlin:20250504T133000
DTEND;TZID=Europe/Berlin:20250504T150000
DTSTAMP:20250401T112459Z
URL:https://castelltreff.de/events/wir-machen-castell-picobello-2/
SUMMARY:Wir machen Castell picobello!
DESCRIPTION:Aufräumaktion im Rahmen der Picobello-Aktion der Stadt Bonn.\n
 Wir halten Müllsäcke\, Handschuhe und Abfallzangen bereit.\nTeilnehmer*i
 nnen sind bei der anschließenden Teestunde besonders willkommen!
ATTACH;FMTTYPE=image/jpeg:https://castelltreff.de/wp-content/uploads/2024/
 12/Picobello.BonnOrange.500.jpg
CATEGORIES:öffentlich
END:VEVENT
BEGIN:VTIMEZONE
TZID:Europe/Berlin
X-LIC-LOCATION:Europe/Berlin
BEGIN:DAYLIGHT
DTSTART:20250330T030000
TZOFFSETFROM:+0100
TZOFFSETTO:+0200
TZNAME:CEST
END:DAYLIGHT
END:VTIMEZONE
END:VCALENDAR