BEGIN:VCALENDAR
VERSION:2.0
PRODID:-//wp-events-plugin.com//7.2.3.1//EN
TZID:Europe/Berlin
X-WR-TIMEZONE:Europe/BerlinBEGIN:VCALENDAR
VERSION:2.0
PRODID:-//wp-events-plugin.com//7.2.3.1//EN
TZID:Europe/Berlin
X-WR-TIMEZONE:Europe/Berlin
BEGIN:VEVENT
UID:0-1924@castelltreff.de
DTSTART;TZID=Europe/Berlin:20250105T133000
DTEND;TZID=Europe/Berlin:20250105T150000
DTSTAMP:20241106T192835Z
URL:https://castelltreff.de/events/wir-machen-castell-picobello/
SUMMARY:Wir machen Castell picobello!
DESCRIPTION:Wir starten sauber ins neue Jahr!\n\nAufräumaktion im Rahmen d
 er Picobello-Aktion der Stadt Bonn.
CATEGORIES:öffentlich
END:VEVENT
BEGIN:VTIMEZONE
TZID:Europe/Berlin
X-LIC-LOCATION:Europe/Berlin
BEGIN:STANDARD
DTSTART:20241027T020000
TZOFFSETFROM:+0200
TZOFFSETTO:+0100
TZNAME:CET
END:STANDARD
END:VTIMEZONE
END:VCALENDAR