BEGIN:VCALENDAR
VERSION:2.0
PRODID:-//wp-events-plugin.com//7.2.3.1//EN
TZID:Europe/Berlin
X-WR-TIMEZONE:Europe/BerlinBEGIN:VCALENDAR
VERSION:2.0
PRODID:-//wp-events-plugin.com//7.2.3.1//EN
TZID:Europe/Berlin
X-WR-TIMEZONE:Europe/Berlin
BEGIN:VEVENT
UID:0-2951@castelltreff.de
DTSTART;TZID=Europe/Berlin:20251021T100000
DTEND;TZID=Europe/Berlin:20251021T130000
DTSTAMP:20251014T190814Z
URL:https://castelltreff.de/events/wortgeklingel-11/
SUMMARY:Wortgeklingel
DESCRIPTION:Am 3. Juli haben sich erstmals schreiblustige Menschen zum Expe
 rimentieren mit Worten getroffen. Die Gruppe hat auf Anhieb wunderbar funk
 tioniert\, ist aber offen für neue Interessent*innen. Wer gern dazukommen
  möchte\, kann sich gern unter events@castelltreff.de melden.
ATTACH;FMTTYPE=image/jpeg:https://castelltreff.de/wp-content/uploads/2024/
 07/IMG_E2892-scaled.jpg
CATEGORIES:öffentlich
END:VEVENT
BEGIN:VTIMEZONE
TZID:Europe/Berlin
X-LIC-LOCATION:Europe/Berlin
BEGIN:DAYLIGHT
DTSTART:20250330T030000
TZOFFSETFROM:+0100
TZOFFSETTO:+0200
TZNAME:CEST
END:DAYLIGHT
END:VTIMEZONE
END:VCALENDAR