BEGIN:VCALENDAR
VERSION:2.0
PRODID:-//wp-events-plugin.com//7.2.3.1//EN
TZID:Europe/Berlin
X-WR-TIMEZONE:Europe/BerlinBEGIN:VCALENDAR
VERSION:2.0
PRODID:-//wp-events-plugin.com//7.2.3.1//EN
TZID:Europe/Berlin
X-WR-TIMEZONE:Europe/Berlin
BEGIN:VEVENT
UID:0-3024@castelltreff.de
DTSTART;TZID=Europe/Berlin:20251202T100000
DTEND;TZID=Europe/Berlin:20251202T130000
DTSTAMP:20251118T200434Z
URL:https://castelltreff.de/events/wortgeklingel-17/
SUMMARY:Wortgeklingel
DESCRIPTION:Seit Anfang Juli treffen sich schreiblustige Menschen alle 14 T
 age zum Experimentieren mit Worten. Sie geben sich jeweils eine besondere 
 gemeinsame Aufgabe - mal ein Thema\, mal eine Stichwortsammlung\, mal ein 
 anderer Impuls. Wichtig ist die Freiheit\, jeweils etwas ganz Eigenes\, im
  Augenblick Geborenes daraus zu machen. Die Gruppe hat auf Anhieb wunderba
 r funktioniert\, ist aber offen für neue Interessent*innen am kreativen S
 chreiben. Wer gern dazukommen möchte\, melde sich gern unter events@caste
 lltreff.de.
ATTACH;FMTTYPE=image/jpeg:https://castelltreff.de/wp-content/uploads/2023/
 06/Schreibwerkstatt.IMG_E28951.jpg
CATEGORIES:öffentlich
END:VEVENT
BEGIN:VTIMEZONE
TZID:Europe/Berlin
X-LIC-LOCATION:Europe/Berlin
BEGIN:STANDARD
DTSTART:20251026T020000
TZOFFSETFROM:+0200
TZOFFSETTO:+0100
TZNAME:CET
END:STANDARD
END:VTIMEZONE
END:VCALENDAR