BEGIN:VCALENDAR
VERSION:2.0
PRODID:-//wp-events-plugin.com//7.2.3.1//EN
TZID:Europe/Berlin
X-WR-TIMEZONE:Europe/BerlinBEGIN:VCALENDAR
VERSION:2.0
PRODID:-//wp-events-plugin.com//7.2.3.1//EN
TZID:Europe/Berlin
X-WR-TIMEZONE:Europe/Berlin
BEGIN:VEVENT
UID:0-3393@castelltreff.de
DTSTART;TZID=Europe/Berlin:20260210T100000
DTEND;TZID=Europe/Berlin:20260210T130000
DTSTAMP:20260128T153503Z
URL:https://castelltreff.de/events/wortgeklingel-21/
SUMMARY:Wortgeklingel
DESCRIPTION:Seit dem Sommer treffen sich schreiblustige Menschen zum Experi
 mentieren mit Worten. Wir schreiben über ein gemeinsames Thema\, oder auf
  einen anderen Impuls hin - immer frei und ohne literarischen Anspruch. Di
 e Gruppe hat auf Anhieb wunderbar funktioniert und ist derzeit von idealer
  Größe\, sodass wir im Moment nicht weiter wachsen möchten. Wer gern da
 zukommen möchte\, kann sich unter events@castelltreff.de melden. Wir erst
 ellen dann eine Warteliste.
ATTACH;FMTTYPE=image/jpeg:https://castelltreff.de/wp-content/uploads/2024/
 07/IMG_E2892-scaled.jpg
CATEGORIES:öffentlich
END:VEVENT
BEGIN:VTIMEZONE
TZID:Europe/Berlin
X-LIC-LOCATION:Europe/Berlin
BEGIN:STANDARD
DTSTART:20251026T020000
TZOFFSETFROM:+0200
TZOFFSETTO:+0100
TZNAME:CET
END:STANDARD
END:VTIMEZONE
END:VCALENDAR