BEGIN:VCALENDAR
VERSION:2.0
PRODID:-//wp-events-plugin.com//7.2.3.1//EN
TZID:Europe/Berlin
X-WR-TIMEZONE:Europe/BerlinBEGIN:VCALENDAR
VERSION:2.0
PRODID:-//wp-events-plugin.com//7.2.3.1//EN
TZID:Europe/Berlin
X-WR-TIMEZONE:Europe/Berlin
BEGIN:VEVENT
UID:0-2876@castelltreff.de
DTSTART;TZID=Europe/Berlin:20250923T100000
DTEND;TZID=Europe/Berlin:20250923T130000
DTSTAMP:20250828T140702Z
URL:https://castelltreff.de/events/wortgeklingel-9/
SUMMARY:Wortgeklingel
DESCRIPTION:Wir schauen\, was wir mit Worten so alles anstellen können. Kr
 eatives Schreiben ohne Leistungsdruck\, sondern mit Freude und Experimenti
 erlust!\n\nFester Kreis\; zusätzliche Teilnehmer*innen auf Anfrage:\neven
 ts@castelltreff.de\; 0228 634731
ATTACH;FMTTYPE=image/jpeg:https://castelltreff.de/wp-content/uploads/2024/
 07/IMG_E2892-scaled.jpg
CATEGORIES:öffentlich
END:VEVENT
BEGIN:VTIMEZONE
TZID:Europe/Berlin
X-LIC-LOCATION:Europe/Berlin
BEGIN:DAYLIGHT
DTSTART:20250330T030000
TZOFFSETFROM:+0100
TZOFFSETTO:+0200
TZNAME:CEST
END:DAYLIGHT
END:VTIMEZONE
END:VCALENDAR